BEGIN:VCALENDAR
VERSION:2.0
PRODID:-//www.equaljusticecenter.org//NONSGML kigkonsult.se iCalcreator 2.3
 0.10//
CALSCALE:GREGORIAN
METHOD:PUBLISH
UID:d0f68410-7e5b-4b84-a318-3b545b6df0bf
X-WR-CALDESC:Casa Marinella\, Education Austin\, & the Equal Justice Center
  are holding a Citizenship Drive Event on July 29th. The following service
 s will be provided at the event with no cost: assistance filling out the N
 -400 citizenship application\, free legal advice with immigration lawyers 
 about the citizenship application process\, and study materials for the ci
 tizenship exam.\n\nService will be available to the first 100 people. Appl
 icants must attend one of the Education Forums.\n\nEducation Austin\, Equa
 l Justice Center\, & Casa Marinella llevarán a cabo un taller de Ciudadaní
 a el 1 de abril. Los servicios serán proporcionados en el evento sin costo
  alguno: asistencia para llenar la ciudadanía N-400\, Asesoramiento legal 
 gratuito con abogados de inmigración sobre el proceso de solicitud\, mater
 iales de estudio para el examen de ciudadanía.\n\nEl servicio estará dispo
 nible para las primeras 100 personas. Los solicitantes deben asistir a uno
 s de los siguientes foros:\n\nTuesday\, July 18\, 2017\n5:30pm\nWalnut Cre
 ek Elementry\n401 W. Braker Lane\nAustin\, TX 78752\n\nWednesday\, July 26
 \, 2017\n5:30pm\nTravis High School\n1211 E. Oltorf St\nAustin\, TX 78704
X-WR-RELCALID:24be13527ec33667460e70fd92433d8c
X-WR-TIMEZONE:America/Chicago
BEGIN:VTIMEZONE
TZID:America/Chicago
BEGIN:STANDARD
TZNAME:CST
DTSTART:20161106T020000
TZOFFSETFROM:-0500
TZOFFSETTO:-0600
RDATE:20171105T020000
RDATE:20181104T020000
END:STANDARD
BEGIN:DAYLIGHT
TZNAME:CDT
DTSTART:20170312T020000
TZOFFSETFROM:-0600
TZOFFSETTO:-0500
RDATE:20180311T020000
END:DAYLIGHT
END:VTIMEZONE
BEGIN:VEVENT
UID:979d685e-0acf-4f91-a4c6-5a4e719a7559
DTSTAMP:20260422T222347Z
DESCRIPTION:Casa Marinella\, Education Austin\, & the Equal Justice Center 
 are holding a Citizenship Drive Event on July 29th. The following services
  will be provided at the event with no cost: assistance filling out the N-
 400 citizenship application\, free legal advice with immigration lawyers a
 bout the citizenship application process\, and study materials for the cit
 izenship exam.\n\nService will be available to the first 100 people. Appli
 cants must attend one of the Education Forums.\n\nEducation Austin\, Equal
  Justice Center\, & Casa Marinella llevarán a cabo un taller de Ciudadanía
  el 1 de abril. Los servicios serán proporcionados en el evento sin costo 
 alguno: asistencia para llenar la ciudadanía N-400\, Asesoramiento legal g
 ratuito con abogados de inmigración sobre el proceso de solicitud\, materi
 ales de estudio para el examen de ciudadanía.\n\nEl servicio estará dispon
 ible para las primeras 100 personas. Los solicitantes deben asistir a unos
  de los siguientes foros:\n\nTuesday\, July 18\, 2017\n5:30pm\nWalnut Cree
 k Elementry\n401 W. Braker Lane\nAustin\, TX 78752\n\nWednesday\, July 26\
 , 2017\n5:30pm\nTravis High School\n1211 E. Oltorf St\nAustin\, TX 78704
DTSTART;TZID=America/Chicago:20170729T090000
DTEND;TZID=America/Chicago:20170729T140000
LOCATION:1211 E Oltorf St\, Austin\, Texas 78704
SUMMARY:Citizenship Drive / Taller de Ciudadanía
END:VEVENT
END:VCALENDAR
